Package: ELMER.data Version: 2.34.0 Command: /home/biocbuild/bbs-3.22-bioc/R/bin/R CMD INSTALL ELMER.data StartedAt: 2025-11-20 10:58:19 -0500 (Thu, 20 Nov 2025) EndedAt: 2025-11-20 10:58:28 -0500 (Thu, 20 Nov 2025) EllapsedTime: 8.6 seconds RetCode: 0 Status: OK