Package: ELMER.data Version: 2.34.0 Command: /home/biocbuild/bbs-3.22-bioc/R/bin/R CMD build --keep-empty-dirs --no-resave-data ELMER.data StartedAt: 2025-11-20 11:18:46 -0500 (Thu, 20 Nov 2025) EndedAt: 2025-11-20 11:20:39 -0500 (Thu, 20 Nov 2025) EllapsedTime: 112.6 seconds RetCode: 0 Status: OK PackageFile: ELMER.data_2.34.0.tar.gz PackageFileSize: 293.4 MiB