Package: DvDdata Version: 1.46.0 Maintainer: J. Saez-Rodriguez MaintainerEmail: saezrodriguez at ebi.ac.uk git_url: https://git.bioconductor.org/packages/DvDdata git_branch: RELEASE_3_22 git_last_commit: 096e07b git_last_commit_date: 2025-10-29 09:52:48 -0500 (Wed, 29 Oct 2025)