Package: DrugVsDiseasedata Version: 1.46.0 Command: /home/biocbuild/bbs-3.22-bioc/R/bin/R CMD build --keep-empty-dirs --no-resave-data DrugVsDiseasedata StartedAt: 2025-10-30 11:21:52 -0400 (Thu, 30 Oct 2025) EndedAt: 2025-10-30 11:21:57 -0400 (Thu, 30 Oct 2025) EllapsedTime: 5.3 seconds RetCode: 0 Status: OK PackageFile: DrugVsDiseasedata_1.46.0.tar.gz PackageFileSize: 4.104 MiB