Package: DonaPLLP2013 Version: 1.48.0 Maintainer: Joseph D. Barry MaintainerEmail: joseph.barry at embl.de git_url: https://git.bioconductor.org/packages/DonaPLLP2013 git_branch: RELEASE_3_22 git_last_commit: 613f650 git_last_commit_date: 2025-10-29 09:53:42 -0500 (Wed, 29 Oct 2025)