Package: DoReMiTra Version: 0.99.2 Command: /home/biocbuild/bbs-3.22-bioc/R/bin/R CMD INSTALL DoReMiTra StartedAt: 2025-10-28 11:03:22 -0400 (Tue, 28 Oct 2025) EndedAt: 2025-10-28 11:03:51 -0400 (Tue, 28 Oct 2025) EllapsedTime: 29.4 seconds RetCode: 0 Status: OK