Package: DoReMiTra Version: 1.0.0 Command: /home/biocbuild/bbs-3.22-bioc/R/bin/R CMD check --install=check:DoReMiTra.install-out.txt --library=/home/biocbuild/bbs-3.22-bioc/R/site-library --timings DoReMiTra_1.0.0.tar.gz StartedAt: 2025-11-06 12:14:23 -0500 (Thu, 06 Nov 2025) EndedAt: 2025-11-06 12:21:13 -0500 (Thu, 06 Nov 2025) EllapsedTime: 409.6 seconds RetCode: 0 Status: OK CheckDir: DoReMiTra.Rcheck Warnings: 0