Package: DoReMiTra Version: 0.99.2 Command: /home/biocbuild/bbs-3.22-bioc/R/bin/R CMD build --keep-empty-dirs --no-resave-data DoReMiTra StartedAt: 2025-10-28 11:14:21 -0400 (Tue, 28 Oct 2025) EndedAt: 2025-10-28 11:15:14 -0400 (Tue, 28 Oct 2025) EllapsedTime: 52.9 seconds RetCode: 0 Status: OK PackageFile: DoReMiTra_0.99.2.tar.gz PackageFileSize: 1.105 MiB