Package: DeSousa2013 Version: 1.46.0 Maintainer: Xin Wang MaintainerEmail: Xin.Wang at cruk.cam.ac.uk git_url: https://git.bioconductor.org/packages/DeSousa2013 git_branch: RELEASE_3_22 git_last_commit: 9a00f0d git_last_commit_date: 2025-10-29 09:53:26 -0500 (Wed, 29 Oct 2025)