Package: DNAZooData Version: 1.10.0 Maintainer: Jacques Serizay MaintainerEmail: jacquesserizay at gmail.com git_url: https://git.bioconductor.org/packages/DNAZooData git_branch: RELEASE_3_22 git_last_commit: af9776f git_last_commit_date: 2025-10-29 10:05:27 -0500 (Wed, 29 Oct 2025)