Package: DLBCL Version: 1.50.0 Maintainer: Marcus Dittrich MaintainerEmail: marcus.dittrich at biozentrum.uni-wuerzburg.de git_url: https://git.bioconductor.org/packages/DLBCL git_branch: RELEASE_3_22 git_last_commit: b6d1d8b git_last_commit_date: 2025-10-29 10:06:08 -0500 (Wed, 29 Oct 2025)