Package: CoSIAdata Version: 1.9.0 Command: /home/biocbuild/bbs-3.22-bioc/R/bin/R CMD INSTALL CoSIAdata StartedAt: 2025-10-02 10:57:14 -0400 (Thu, 02 Oct 2025) EndedAt: 2025-10-02 10:57:30 -0400 (Thu, 02 Oct 2025) EllapsedTime: 16.0 seconds RetCode: 0 Status: OK