Package: ChIPXpressData Version: 1.47.0 Command: /home/biocbuild/bbs-3.22-bioc/R/bin/R CMD check --install=check:ChIPXpressData.install-out.txt --library=/home/biocbuild/bbs-3.22-bioc/R/site-library --timings ChIPXpressData_1.47.0.tar.gz StartedAt: 2025-10-16 12:07:13 -0400 (Thu, 16 Oct 2025) EndedAt: 2025-10-16 12:10:23 -0400 (Thu, 16 Oct 2025) EllapsedTime: 189.9 seconds RetCode: 0 Status: WARNINGS CheckDir: ChIPXpressData.Rcheck Warnings: 1