Package: ChIPDBData Version: 0.99.7 Command: /home/biocbuild/bbs-3.22-bioc/R/bin/R CMD check --install=check:ChIPDBData.install-out.txt --library=/home/biocbuild/bbs-3.22-bioc/R/site-library --timings ChIPDBData_0.99.7.tar.gz StartedAt: 2025-10-21 12:07:21 -0400 (Tue, 21 Oct 2025) EndedAt: 2025-10-21 12:08:51 -0400 (Tue, 21 Oct 2025) EllapsedTime: 89.4 seconds RetCode: 0 Status: OK CheckDir: ChIPDBData.Rcheck Warnings: 0