Package: ChAMPdata Version: 2.42.0 Maintainer: Yuan Tian MaintainerEmail: champ450k at gmail.com git_url: https://git.bioconductor.org/packages/ChAMPdata git_branch: RELEASE_3_22 git_last_commit: 6d429ca git_last_commit_date: 2025-10-29 09:54:17 -0500 (Wed, 29 Oct 2025)