Package: COPDSexualDimorphism.data Version: 1.46.0 Command: /home/biocbuild/bbs-3.22-bioc/R/bin/R CMD build --keep-empty-dirs --no-resave-data COPDSexualDimorphism.data StartedAt: 2025-10-30 11:16:24 -0400 (Thu, 30 Oct 2025) EndedAt: 2025-10-30 11:16:32 -0400 (Thu, 30 Oct 2025) EllapsedTime: 8.0 seconds RetCode: 0 Status: OK PackageFile: COPDSexualDimorphism.data_1.46.0.tar.gz PackageFileSize: 34.3 MiB