Package: COHCAPanno Version: 1.46.0 Maintainer: Charles Warden MaintainerEmail: cwarden45 at gmail.com git_url: https://git.bioconductor.org/packages/COHCAPanno git_branch: RELEASE_3_22 git_last_commit: 5c46a13 git_last_commit_date: 2025-10-29 09:54:37 -0500 (Wed, 29 Oct 2025)