Package: CLLmethylation Version: 1.30.0 Command: /home/biocbuild/bbs-3.22-bioc/R/bin/R CMD check --install=check:CLLmethylation.install-out.txt --library=/home/biocbuild/bbs-3.22-bioc/R/site-library --timings CLLmethylation_1.30.0.tar.gz StartedAt: 2025-11-11 12:08:27 -0500 (Tue, 11 Nov 2025) EndedAt: 2025-11-11 12:11:02 -0500 (Tue, 11 Nov 2025) EllapsedTime: 155.4 seconds RetCode: 0 Status: OK CheckDir: CLLmethylation.Rcheck Warnings: 0