Package: CENTREprecomputed Version: 1.0.0 Command: /home/biocbuild/bbs-3.22-bioc/R/bin/R CMD check --install=check:CENTREprecomputed.install-out.txt --library=/home/biocbuild/bbs-3.22-bioc/R/site-library --timings CENTREprecomputed_1.0.0.tar.gz StartedAt: 2025-11-13 12:07:24 -0500 (Thu, 13 Nov 2025) EndedAt: 2025-11-13 12:09:59 -0500 (Thu, 13 Nov 2025) EllapsedTime: 155.3 seconds RetCode: 0 Status: OK CheckDir: CENTREprecomputed.Rcheck Warnings: 0