Package: BloodCancerMultiOmics2017 Version: 1.29.0 Command: /home/biocbuild/bbs-3.22-bioc/R/bin/R CMD check --install=check:BloodCancerMultiOmics2017.install-out.txt --library=/home/biocbuild/bbs-3.22-bioc/R/site-library --timings BloodCancerMultiOmics2017_1.29.0.tar.gz StartedAt: 2025-10-28 12:01:33 -0400 (Tue, 28 Oct 2025) EndedAt: 2025-10-28 12:35:13 -0400 (Tue, 28 Oct 2025) EllapsedTime: 2020.0 seconds RetCode: 0 Status: WARNINGS CheckDir: BloodCancerMultiOmics2017.Rcheck Warnings: 1