Package: BeadSorted.Saliva.EPIC Version: 1.17.0 Command: /home/biocbuild/bbs-3.22-bioc/R/bin/R CMD INSTALL BeadSorted.Saliva.EPIC StartedAt: 2025-10-28 11:04:37 -0400 (Tue, 28 Oct 2025) EndedAt: 2025-10-28 11:05:21 -0400 (Tue, 28 Oct 2025) EllapsedTime: 43.8 seconds RetCode: 0 Status: OK