Package: BeadSorted.Saliva.EPIC Version: 1.17.0 Command: /home/biocbuild/bbs-3.22-bioc/R/bin/R CMD build --keep-empty-dirs --no-resave-data BeadSorted.Saliva.EPIC StartedAt: 2025-10-28 11:06:41 -0400 (Tue, 28 Oct 2025) EndedAt: 2025-10-28 11:07:27 -0400 (Tue, 28 Oct 2025) EllapsedTime: 45.5 seconds RetCode: 0 Status: OK PackageFile: BeadSorted.Saliva.EPIC_1.17.0.tar.gz PackageFileSize: 13.46 KiB