Package: BeadSorted.Saliva.EPIC Version: 1.18.0 Maintainer: Jonah Fisher MaintainerEmail: jazzfish at umich.edu git_url: https://git.bioconductor.org/packages/BeadSorted.Saliva.EPIC git_branch: RELEASE_3_22 git_last_commit: 652ede4 git_last_commit_date: 2025-10-29 10:03:47 -0500 (Wed, 29 Oct 2025)