Package: AshkenazimSonChr21 Version: 1.40.0 Command: /home/biocbuild/bbs-3.22-bioc/R/bin/R CMD INSTALL AshkenazimSonChr21 StartedAt: 2025-11-20 10:55:43 -0500 (Thu, 20 Nov 2025) EndedAt: 2025-11-20 10:55:46 -0500 (Thu, 20 Nov 2025) EllapsedTime: 3.7 seconds RetCode: 0 Status: OK