Package: AshkenazimSonChr21 Version: 1.40.0 Command: /home/biocbuild/bbs-3.22-bioc/R/bin/R CMD build --keep-empty-dirs --no-resave-data AshkenazimSonChr21 StartedAt: 2025-11-20 11:08:57 -0500 (Thu, 20 Nov 2025) EndedAt: 2025-11-20 11:09:21 -0500 (Thu, 20 Nov 2025) EllapsedTime: 24.4 seconds RetCode: 0 Status: OK PackageFile: AshkenazimSonChr21_1.40.0.tar.gz PackageFileSize: 9.756 MiB