Package: Affyhgu133aExpr Version: 1.48.0 Maintainer: Zhicheng Ji MaintainerEmail: zji4 at jhu.edu git_url: https://git.bioconductor.org/packages/Affyhgu133aExpr git_branch: RELEASE_3_22 git_last_commit: 404c1b6 git_last_commit_date: 2025-10-29 09:54:40 -0500 (Wed, 29 Oct 2025)