Package: Affyhgu133A2Expr Version: 1.46.0 Maintainer: Zhicheng Ji MaintainerEmail: zji4 at jhu.edu git_url: https://git.bioconductor.org/packages/Affyhgu133A2Expr git_branch: RELEASE_3_22 git_last_commit: 3087443 git_last_commit_date: 2025-10-29 09:54:47 -0500 (Wed, 29 Oct 2025)