Package: ARRmData Version: 1.46.0 Maintainer: Jean-Philippe Fortin MaintainerEmail: jfortin at jhsph.edu git_url: https://git.bioconductor.org/packages/ARRmData git_branch: RELEASE_3_22 git_last_commit: 2d2dd34 git_last_commit_date: 2025-10-29 09:52:55 -0400 (Wed, 29 Oct 2025)