Welcome to mirrors.dotsrc.org

All our mirrors of open source software are available via http, https, ftp and an onion service. More information about our mirrors including statistics and contact information is available on our mirror info pages.

For information about dotsrc.org and our other services please go to our website.

Index of /bioconductor/checkResults/3.22/data-experiment-LATEST/

File Name  ↓ File Size  ↓ Date  ↓ 
--
-2025-11-13 20:41:45
-2025-11-13 20:41:45
-2025-11-13 20:41:45
-2025-11-13 20:41:45
-2025-11-13 20:41:45
-2025-11-13 20:41:45
-2025-11-13 20:41:45
-2025-11-13 20:41:45
-2025-11-13 20:41:45
-2025-11-13 20:41:45
-2025-11-13 20:41:45
-2025-11-13 20:41:45
-2025-11-13 20:41:45
-2025-11-13 20:41:45
-2025-11-13 20:41:45
-2025-11-13 20:41:45
-2025-11-13 20:41:45
-2025-11-13 20:41:45
-2025-11-13 20:41:45
-2025-11-13 20:41:45
-2025-11-13 20:41:45
-2025-11-13 20:41:45
-2025-11-13 20:41:45
-2025-11-13 20:41:45
-2025-11-13 20:41:45
-2025-11-13 20:41:45
-2025-11-13 20:41:45
-2025-11-13 20:41:45
-2025-11-13 20:41:45
-2025-11-13 20:41:45
-2025-11-13 20:41:45
-2025-11-13 20:41:45
-2025-11-13 20:41:45
-2025-11-13 20:41:45
-2025-11-13 20:41:45
-2025-11-13 20:41:45
-2025-11-13 20:41:45
-2025-11-13 20:41:45
-2025-11-13 20:41:45
-2025-11-13 20:41:45
-2025-11-13 20:41:45
-2025-11-13 20:41:45
-2025-11-13 20:41:45
-2025-11-13 20:41:45
-2025-11-13 20:41:45
-2025-11-13 20:41:45
-2025-11-13 20:41:45
-2025-11-13 20:41:45
-2025-11-13 20:41:45
-2025-11-13 20:41:45
-2025-11-13 20:41:45
-2025-11-13 20:41:45
-2025-11-13 20:41:45
-2025-11-13 20:41:45
-2025-11-13 20:41:45
-2025-11-13 20:41:45
-2025-11-13 20:41:45
-2025-11-13 20:41:45
-2025-11-13 20:41:45
-2025-11-13 20:41:45
-2025-11-13 20:41:45
-2025-11-13 20:41:45
-2025-11-13 20:41:45
-2025-11-13 20:41:45
-2025-11-13 20:41:45
-2025-11-13 20:41:45
-2025-11-13 20:41:45
-2025-11-13 20:41:45
-2025-11-13 20:41:45
-2025-11-13 20:41:45
-2025-11-13 20:41:45
-2025-11-13 20:41:45
-2025-11-13 20:41:45
-2025-11-13 20:41:45
-2025-11-13 20:41:45
-2025-11-13 20:41:45
-2025-11-13 20:41:45
-2025-11-13 20:41:45
-2025-11-13 20:41:45
-2025-11-13 20:41:45
-2025-11-13 20:41:45
-2025-11-13 20:41:45
-2025-11-13 20:41:45
-2025-11-13 20:41:45
-2025-11-13 20:41:46
-2025-11-13 20:41:46
-2025-11-13 20:41:46
-2025-11-13 20:41:46
-2025-11-13 20:41:45
-2025-11-13 20:41:45
-2025-11-13 20:41:45
-2025-11-13 20:41:45
-2025-11-13 20:41:45
-2025-11-13 20:41:46
-2025-11-13 20:41:46
-2025-11-13 20:41:46
-2025-11-13 20:41:46
-2025-11-13 20:41:46
-2025-11-13 20:41:46
-2025-11-13 20:41:46
-2025-11-13 20:41:46
-2025-11-13 20:41:46
-2025-11-13 20:41:46
-2025-11-13 20:41:46
-2025-11-13 20:41:46
-2025-11-13 20:41:46
-2025-11-13 20:41:46
-2025-11-13 20:41:46
-2025-11-13 20:41:46
-2025-11-13 20:41:46
-2025-11-13 20:41:46
-2025-11-13 20:41:46
-2025-11-13 20:41:46
-2025-11-13 20:41:46
-2025-11-13 20:41:46
-2025-11-13 20:41:46
-2025-11-13 20:41:46
-2025-11-13 20:41:46
-2025-11-13 20:41:46
-2025-11-13 20:41:46
-2025-11-13 20:41:46
-2025-11-13 20:41:46
-2025-11-13 20:41:46
-2025-11-13 20:41:46
-2025-11-13 20:41:46
-2025-11-13 20:41:46
-2025-11-13 20:41:46
-2025-11-13 20:41:46
-2025-11-13 20:41:46
-2025-11-13 20:41:46
-2025-11-13 20:41:46
-2025-11-13 20:41:46
-2025-11-13 20:41:46
-2025-11-13 20:41:46
-2025-11-13 20:41:46
-2025-11-13 20:41:46
-2025-11-13 20:41:46
-2025-11-13 20:41:46
-2025-11-13 20:41:46
-2025-11-13 20:41:46
-2025-11-13 20:41:46
-2025-11-13 20:41:46
-2025-11-13 20:41:46
-2025-11-13 20:41:46
-2025-11-13 20:41:46
-2025-11-13 20:41:46
-2025-11-13 20:41:46
-2025-11-13 20:41:46
-2025-11-13 20:41:46
-2025-11-13 20:41:46
-2025-11-13 20:41:46
-2025-11-13 20:41:46
-2025-11-13 20:41:46
-2025-11-13 20:41:46
-2025-11-13 20:41:46
-2025-11-13 20:41:46
-2025-11-13 20:41:46
-2025-11-13 20:41:46
-2025-11-13 20:41:46
-2025-11-13 20:41:46
-2025-11-13 20:41:46
-2025-11-13 20:41:46
-2025-11-13 20:41:46
-2025-11-13 20:41:46
-2025-11-13 20:41:46
-2025-11-13 20:41:46
-2025-11-13 20:41:46
-2025-11-13 20:41:46
-2025-11-13 20:41:46
-2025-11-13 20:41:46
-2025-11-13 20:41:46
-2025-11-13 20:41:46
-2025-11-13 20:41:46
-2025-11-13 20:41:46
-2025-11-13 20:41:46
-2025-11-13 20:41:46
-2025-11-13 20:41:46
-2025-11-13 20:41:46
-2025-11-13 20:41:46
-2025-11-13 20:41:46
-2025-11-13 20:41:46
-2025-11-13 20:41:46
-2025-11-13 20:41:46
-2025-11-13 20:41:46
-2025-11-13 20:41:46
-2025-11-13 20:41:46
-2025-11-13 20:41:46
-2025-11-13 20:41:46
-2025-11-13 20:41:46
-2025-11-13 20:41:46
-2025-11-13 20:41:46
-2025-11-13 20:41:46
-2025-11-13 20:41:46
-2025-11-13 20:41:46
-2025-11-13 20:41:46
-2025-11-13 20:41:46
-2025-11-13 20:41:46
-2025-11-13 20:41:46
-2025-11-13 20:41:46
-2025-11-13 20:41:46
-2025-11-13 20:41:46
-2025-11-13 20:41:46
-2025-11-13 20:41:46
-2025-11-13 20:41:46
-2025-11-13 20:41:46
-2025-11-13 20:41:46
-2025-11-13 20:41:46
-2025-11-13 20:41:46
-2025-11-13 20:41:46
-2025-11-13 20:41:46
-2025-11-13 20:41:46
-2025-11-13 20:41:46
-2025-11-13 20:41:46
-2025-11-13 20:41:46
-2025-11-13 20:41:46
-2025-11-13 20:41:46
-2025-11-13 20:41:46
-2025-11-13 20:41:46
-2025-11-13 20:41:46
-2025-11-13 20:41:46
-2025-11-13 20:41:46
-2025-11-13 20:41:46
-2025-11-13 20:41:46
-2025-11-13 20:41:46
-2025-11-13 20:41:46
-2025-11-13 20:41:46
-2025-11-13 20:41:46
-2025-11-13 20:41:46
-2025-11-13 20:41:46
-2025-11-13 20:41:46
-2025-11-13 20:41:45
-2025-11-13 20:41:45
-2025-11-13 20:41:45
-2025-11-13 20:41:45
-2025-11-13 20:41:45
-2025-11-13 20:41:45
-2025-11-13 20:41:45
-2025-11-13 20:41:45
-2025-04-08 19:35:03
-2025-11-13 20:41:45
-2025-11-13 20:41:45
-2025-11-13 20:41:45
-2025-11-13 20:41:45
-2025-11-13 20:41:45
-2025-11-13 20:41:45
-2025-11-13 20:41:45
-2025-11-13 20:41:45
-2025-11-13 20:41:45
-2025-11-13 20:41:45
-2025-11-13 20:41:45
-2025-11-13 20:41:45
-2025-11-13 20:41:45
-2025-11-13 20:41:45
-2025-11-13 20:41:45
-2025-11-13 20:41:45
-2025-11-13 20:41:45
-2025-11-13 20:41:45
-2025-11-13 20:41:45
-2025-11-13 20:41:45
-2025-11-13 20:41:45
-2025-11-13 20:41:45
-2025-11-13 20:41:45
-2025-11-13 20:41:45
-2025-11-13 20:41:45
-2025-11-13 20:41:45
-2025-11-13 20:41:45
-2025-11-13 20:41:45
-2025-11-13 20:41:45
-2025-11-13 20:41:45
-2025-11-13 20:41:45
-2025-11-13 20:41:45
-2025-11-13 20:41:45
-2025-11-13 20:41:45
-2025-11-13 20:41:45
-2025-11-13 20:41:45
-2025-11-13 20:41:45
-2025-11-13 20:41:45
-2025-11-13 20:41:45
-2025-11-13 20:41:45
-2025-11-13 20:41:45
-2025-11-13 20:41:45
-2025-11-13 20:41:45
-2025-11-13 20:41:45
-2025-11-13 20:41:45
-2025-11-13 20:41:45
-2025-11-13 20:41:45
-2025-11-13 20:41:45
-2025-11-13 20:41:45
-2025-11-13 20:41:45
-2025-11-13 20:41:45
-2025-11-13 20:41:45
-2025-11-13 20:41:45
-2025-11-13 20:41:45
-2025-11-13 20:41:45
-2025-11-13 20:41:45
-2025-11-13 20:41:45
-2025-11-13 20:41:45
-2025-11-13 20:41:45
-2025-11-13 20:41:45
-2025-11-13 20:41:45
-2025-11-13 20:41:45
-2025-11-13 20:41:45
-2025-11-13 20:41:45
-2025-11-13 20:41:45
-2025-11-13 20:41:45
-2025-11-13 20:41:45
-2025-11-13 20:41:45
-2025-11-13 20:41:45
-2025-11-13 20:41:45
-2025-11-13 20:41:45
-2025-11-13 20:41:45
-2025-11-13 20:41:45
-2025-11-13 20:41:45
-2025-11-13 20:41:45
-2025-11-13 20:41:45
-2025-11-13 20:41:45
-2025-11-13 20:41:45
-2025-11-13 20:41:45
-2025-11-13 20:41:45
-2025-11-13 20:41:45
-2025-11-13 20:41:45
-2025-11-13 20:41:45
-2025-11-13 20:41:45
-2025-11-13 20:41:45
-2025-11-13 20:41:45
-2025-11-13 20:41:45
-2025-11-13 20:41:45
-2025-11-13 20:41:45
-2025-11-13 20:41:45
-2025-11-13 20:41:45
-2025-11-13 20:41:46
-2025-11-13 20:41:46
-2025-11-13 20:41:46
-2025-11-13 20:41:46
-2025-11-13 20:41:46
-2025-11-13 20:41:46
-2025-11-13 20:41:46
-2025-11-13 20:41:46
-2025-11-13 20:41:46
-2025-11-13 20:41:46
-2025-11-13 20:41:46
-2025-11-13 20:41:46
-2025-11-13 20:41:46
-2025-11-13 20:41:46
-2025-11-13 20:41:46
-2025-11-13 20:41:46
-2025-11-13 20:41:46
-2025-11-13 20:41:46
-2025-11-13 20:41:46
-2025-11-13 20:41:46
-2025-11-13 20:41:46
-2025-11-13 20:41:46
-2025-11-13 20:41:46
-2025-11-13 20:41:46
-2025-11-13 20:41:46
-2025-11-13 20:41:46
-2025-11-13 20:41:46
-2025-11-13 20:41:46
-2025-11-13 20:41:46
-2025-11-13 20:41:46
-2025-11-13 20:41:46
-2025-11-13 20:41:46
-2025-11-13 20:41:46
-2025-11-13 20:41:46
-2025-11-13 20:41:46
-2025-11-13 20:41:46
-2025-11-13 20:41:46
-2025-11-13 20:41:46
-2025-11-13 20:41:46
-2025-11-13 20:41:46
-2025-11-13 20:41:46
-2025-11-13 20:41:46
-2025-11-13 20:41:46
-2025-11-13 20:41:46
-2025-11-13 20:41:46
-2025-11-13 20:41:46
-2025-11-13 20:41:46
-2025-04-08 19:35:04
-2025-11-13 20:41:46
-2025-11-13 20:41:46
-2025-11-13 20:41:46
-2025-11-13 20:41:46
-2025-11-13 20:41:46
-2025-11-13 20:41:46
-2025-11-13 20:41:46
-2025-11-13 20:41:46
-2025-11-13 20:41:46
-2025-11-13 20:41:46
-2025-11-13 20:41:46
-2025-11-13 20:41:46
-2025-11-13 20:41:46
-2025-11-13 20:41:46
-2025-11-13 20:41:46
-2025-11-13 20:41:46
-2025-11-13 20:41:46
-2025-11-13 20:41:46
-2025-11-13 20:41:46
-2025-11-13 20:41:46
-2025-11-13 20:41:46
-2025-11-13 20:41:46
-2025-11-13 20:41:46
-2025-11-13 20:41:46
-2025-11-13 20:41:46
-2025-11-13 20:41:46
-2025-11-13 20:41:46
-2025-11-13 20:41:46
-2025-11-13 20:41:46
-2025-11-13 20:41:46
-2025-11-13 20:41:46
-2025-11-13 20:41:46
-2025-11-13 20:41:46
-2025-11-13 20:41:46
-2025-11-13 20:41:46
-2025-11-13 20:41:46
-2025-11-13 20:41:46
-2025-11-13 20:41:46
-2025-11-13 20:41:46
-2025-11-13 20:41:46
-2025-04-08 19:35:04
-2025-11-13 20:41:46
-2025-11-13 20:41:46
-2025-11-13 20:41:46
-2025-11-13 20:41:46
-2025-11-13 20:41:46
-2025-11-13 20:41:46
-2025-11-13 20:41:46
-2025-11-13 20:41:46
-2025-11-13 20:41:46
-2025-11-13 20:41:46
-2025-11-13 20:41:46
-2025-11-13 20:41:46
-2025-11-13 20:41:46
-2025-11-13 20:41:46
-2025-11-13 20:41:46
-2025-11-13 20:41:46
-2025-11-13 20:41:46
-2025-11-13 20:41:46
-2025-11-13 20:41:46
7.1 KiB2025-11-13 20:41:44
7.1 KiB2025-11-13 20:41:44
7.0 KiB2025-11-13 20:41:44
47.6 KiB2025-11-13 20:41:44
2.6 KiB2025-11-13 20:41:44
31.4 KiB2025-11-13 20:41:44
3.3 KiB2025-11-13 20:41:44
601.4 KiB2025-11-13 20:41:46
46.8 KiB2025-11-13 20:41:44
7.4 KiB2025-11-13 20:41:44
537.2 KiB2025-11-13 20:41:44
11.9 KiB2025-11-13 20:41:44
6.0 KiB2025-11-13 20:41:44
1.1 MiB2025-11-13 20:41:48
0 B2025-11-13 20:41:44