Package: scAnnotatR.models Version: 0.99.10 Command: /home/biocbuild/bbs-3.22-bioc/R/bin/R CMD INSTALL scAnnotatR.models StartedAt: 2025-10-01 05:55:08 -0400 (Wed, 01 Oct 2025) EndedAt: 2025-10-01 05:55:09 -0400 (Wed, 01 Oct 2025) EllapsedTime: 1.5 seconds RetCode: 0 Status: OK