Package: scAnnotatR.models Version: 0.99.10 Command: /home/biocbuild/bbs-3.22-bioc/R/bin/R CMD build --keep-empty-dirs --no-resave-data scAnnotatR.models StartedAt: 2025-10-01 05:57:23 -0400 (Wed, 01 Oct 2025) EndedAt: 2025-10-01 05:58:11 -0400 (Wed, 01 Oct 2025) EllapsedTime: 48.9 seconds RetCode: 0 Status: OK PackageFile: scAnnotatR.models_0.99.10.tar.gz PackageFileSize: 13.07 KiB