Package: rat2302frmavecs Version: 0.99.11 Command: /home/biocbuild/bbs-3.22-bioc/R/bin/R CMD INSTALL rat2302frmavecs StartedAt: 2025-11-05 05:55:08 -0500 (Wed, 05 Nov 2025) EndedAt: 2025-11-05 05:55:26 -0500 (Wed, 05 Nov 2025) EllapsedTime: 18.2 seconds RetCode: 0 Status: OK