Package: rat2302frmavecs Version: 0.99.11 Command: /home/biocbuild/bbs-3.22-bioc/R/bin/R CMD build --keep-empty-dirs --no-resave-data rat2302frmavecs StartedAt: 2025-11-05 05:57:22 -0500 (Wed, 05 Nov 2025) EndedAt: 2025-11-05 05:58:33 -0500 (Wed, 05 Nov 2025) EllapsedTime: 70.4 seconds RetCode: 0 Status: OK PackageFile: rat2302frmavecs_0.99.11.tar.gz PackageFileSize: 12.54 MiB