Package: org.Mxanthus.db Version: 1.0.27 Command: /home/biocbuild/bbs-3.22-bioc/R/bin/R CMD build --keep-empty-dirs --no-resave-data org.Mxanthus.db StartedAt: 2025-10-29 05:57:10 -0400 (Wed, 29 Oct 2025) EndedAt: 2025-10-29 05:57:45 -0400 (Wed, 29 Oct 2025) EllapsedTime: 34.5 seconds RetCode: 0 Status: OK PackageFile: org.Mxanthus.db_1.0.27.tar.gz PackageFileSize: 461.4 KiB