Package: ontoProcData Version: 0.99.9904 Command: /home/biocbuild/bbs-3.22-bioc/R/bin/R CMD INSTALL ontoProcData StartedAt: 2025-10-01 05:55:08 -0400 (Wed, 01 Oct 2025) EndedAt: 2025-10-01 05:55:10 -0400 (Wed, 01 Oct 2025) EllapsedTime: 2.3 seconds RetCode: 0 Status: OK