Package: hpAnnot Version: 1.1.1 Maintainer: Marta R. Hidalgo MaintainerEmail: marta.hidalgo at outlook.es git_url: https://git.bioconductor.org/packages/hpAnnot git_branch: RELEASE_3_22 git_last_commit: 09db666 git_last_commit_date: 2025-10-08 19:01:00 -0500 (Wed, 08 Oct 2025)