Package: gwascatData Version: 0.99.6 Command: /home/biocbuild/bbs-3.22-bioc/R/bin/R CMD INSTALL gwascatData StartedAt: 2025-10-22 05:55:08 -0400 (Wed, 22 Oct 2025) EndedAt: 2025-10-22 05:55:11 -0400 (Wed, 22 Oct 2025) EllapsedTime: 2.8 seconds RetCode: 0 Status: OK