Package: excluderanges Version: 0.99.10 Command: /home/biocbuild/bbs-3.22-bioc/R/bin/R CMD build --keep-empty-dirs --no-resave-data excluderanges StartedAt: 2025-10-01 05:56:30 -0400 (Wed, 01 Oct 2025) EndedAt: 2025-10-01 05:57:48 -0400 (Wed, 01 Oct 2025) EllapsedTime: 77.7 seconds RetCode: 0 Status: OK PackageFile: excluderanges_0.99.10.tar.gz PackageFileSize: 4.533 MiB