Package: chromhmmData Version: 0.99.2 Command: /home/biocbuild/bbs-3.22-bioc/R/bin/R CMD INSTALL chromhmmData StartedAt: 2025-10-01 05:55:08 -0400 (Wed, 01 Oct 2025) EndedAt: 2025-10-01 05:55:11 -0400 (Wed, 01 Oct 2025) EllapsedTime: 2.6 seconds RetCode: 0 Status: OK