Package: cadd.v1.6.hg19 Version: 3.18.1 Command: /home/biocbuild/bbs-3.22-bioc/R/bin/R CMD check --install=check:cadd.v1.6.hg19.install-out.txt --library=/home/biocbuild/bbs-3.22-bioc/R/site-library --timings cadd.v1.6.hg19_3.18.1.tar.gz StartedAt: 2025-10-22 05:59:51 -0400 (Wed, 22 Oct 2025) EndedAt: 2025-10-22 06:01:52 -0400 (Wed, 22 Oct 2025) EllapsedTime: 120.9 seconds RetCode: 0 Status: OK CheckDir: cadd.v1.6.hg19.Rcheck Warnings: 0