Package: UCSCRepeatMasker Version: 3.22.0 Maintainer: Robert Castelo MaintainerEmail: robert.castelo at upf.edu git_url: https://git.bioconductor.org/packages/UCSCRepeatMasker git_branch: devel git_last_commit: a520961 git_last_commit_date: 2025-10-22 10:50:44 -0400 (Wed, 22 Oct 2025)