Package: TENET.AnnotationHub Version: 1.0.0 Command: /home/biocbuild/bbs-3.22-bioc/R/bin/R CMD INSTALL TENET.AnnotationHub StartedAt: 2025-10-01 05:55:10 -0400 (Wed, 01 Oct 2025) EndedAt: 2025-10-01 05:55:19 -0400 (Wed, 01 Oct 2025) EllapsedTime: 8.4 seconds RetCode: 0 Status: OK