Package: TENET.AnnotationHub Version: 1.0.0 Command: /home/biocbuild/bbs-3.22-bioc/R/bin/R CMD build --keep-empty-dirs --no-resave-data TENET.AnnotationHub StartedAt: 2025-10-01 05:57:28 -0400 (Wed, 01 Oct 2025) EndedAt: 2025-10-01 05:58:22 -0400 (Wed, 01 Oct 2025) EllapsedTime: 54.8 seconds RetCode: 0 Status: OK PackageFile: TENET.AnnotationHub_1.0.0.tar.gz PackageFileSize: 267.6 KiB