Package: PANTHER.db Version: 1.0.12 Command: /home/biocbuild/bbs-3.22-bioc/R/bin/R CMD INSTALL PANTHER.db StartedAt: 2025-10-08 05:55:22 -0400 (Wed, 08 Oct 2025) EndedAt: 2025-10-08 05:55:44 -0400 (Wed, 08 Oct 2025) EllapsedTime: 21.9 seconds RetCode: 0 Status: OK