Package: MPO.db Version: 0.99.8 Command: /home/biocbuild/bbs-3.22-bioc/R/bin/R CMD INSTALL MPO.db StartedAt: 2025-10-01 05:55:20 -0400 (Wed, 01 Oct 2025) EndedAt: 2025-10-01 05:55:43 -0400 (Wed, 01 Oct 2025) EllapsedTime: 22.9 seconds RetCode: 0 Status: OK