Package: GenomicState Version: 0.99.17 Command: /home/biocbuild/bbs-3.22-bioc/R/bin/R CMD INSTALL GenomicState StartedAt: 2025-10-01 05:55:25 -0400 (Wed, 01 Oct 2025) EndedAt: 2025-10-01 05:55:59 -0400 (Wed, 01 Oct 2025) EllapsedTime: 34.0 seconds RetCode: 0 Status: OK