Package: GenomicState Version: 0.99.17 Command: /home/biocbuild/bbs-3.22-bioc/R/bin/R CMD build --keep-empty-dirs --no-resave-data GenomicState StartedAt: 2025-10-01 05:56:39 -0400 (Wed, 01 Oct 2025) EndedAt: 2025-10-01 05:58:47 -0400 (Wed, 01 Oct 2025) EllapsedTime: 127.5 seconds RetCode: 0 Status: OK PackageFile: GenomicState_0.99.17.tar.gz PackageFileSize: 921.1 KiB