Package: GeneSummary Version: 0.99.6 Command: /home/biocbuild/bbs-3.22-bioc/R/bin/R CMD build --keep-empty-dirs --no-resave-data GeneSummary StartedAt: 2025-10-22 05:57:27 -0400 (Wed, 22 Oct 2025) EndedAt: 2025-10-22 05:57:33 -0400 (Wed, 22 Oct 2025) EllapsedTime: 5.6 seconds RetCode: 0 Status: OK PackageFile: GeneSummary_0.99.6.tar.gz PackageFileSize: 3.3 MiB