Package: EpiTxDb.Sc.sacCer3 Version: 0.99.5 Command: /home/biocbuild/bbs-3.22-bioc/R/bin/R CMD INSTALL EpiTxDb.Sc.sacCer3 StartedAt: 2025-10-08 05:55:29 -0400 (Wed, 08 Oct 2025) EndedAt: 2025-10-08 05:56:14 -0400 (Wed, 08 Oct 2025) EllapsedTime: 45.1 seconds RetCode: 0 Status: OK