Package: EpiTxDb.Sc.sacCer3 Version: 0.99.5 Command: /home/biocbuild/bbs-3.22-bioc/R/bin/R CMD build --keep-empty-dirs --no-resave-data EpiTxDb.Sc.sacCer3 StartedAt: 2025-10-08 05:56:37 -0400 (Wed, 08 Oct 2025) EndedAt: 2025-10-08 05:57:40 -0400 (Wed, 08 Oct 2025) EllapsedTime: 62.9 seconds RetCode: 0 Status: OK PackageFile: EpiTxDb.Sc.sacCer3_0.99.5.tar.gz PackageFileSize: 304.1 KiB